BEGIN:VCALENDAR
VERSION:2.0
PRODID:-//Central Arkansas Corvette Club - ECPv6.15.20//NONSGML v1.0//EN
CALSCALE:GREGORIAN
METHOD:PUBLISH
X-ORIGINAL-URL:https://centralarkansascorvetteclub.org
X-WR-CALDESC:Events for Central Arkansas Corvette Club
REFRESH-INTERVAL;VALUE=DURATION:PT1H
X-Robots-Tag:noindex
X-PUBLISHED-TTL:PT1H
BEGIN:VTIMEZONE
TZID:America/Chicago
BEGIN:DAYLIGHT
TZOFFSETFROM:-0600
TZOFFSETTO:-0500
TZNAME:CDT
DTSTART:20250309T080000
END:DAYLIGHT
BEGIN:STANDARD
TZOFFSETFROM:-0500
TZOFFSETTO:-0600
TZNAME:CST
DTSTART:20251102T070000
END:STANDARD
BEGIN:DAYLIGHT
TZOFFSETFROM:-0600
TZOFFSETTO:-0500
TZNAME:CDT
DTSTART:20260308T080000
END:DAYLIGHT
BEGIN:STANDARD
TZOFFSETFROM:-0500
TZOFFSETTO:-0600
TZNAME:CST
DTSTART:20261101T070000
END:STANDARD
BEGIN:DAYLIGHT
TZOFFSETFROM:-0600
TZOFFSETTO:-0500
TZNAME:CDT
DTSTART:20270314T080000
END:DAYLIGHT
BEGIN:STANDARD
TZOFFSETFROM:-0500
TZOFFSETTO:-0600
TZNAME:CST
DTSTART:20271107T070000
END:STANDARD
END:VTIMEZONE
BEGIN:VEVENT
DTSTART;TZID=America/Chicago:20260515T080000
DTEND;TZID=America/Chicago:20260517T170000
DTSTAMP:20260421T074443
CREATED:20260104T185502Z
LAST-MODIFIED:20260104T185502Z
UID:3503-1778832000-1779037200@centralarkansascorvetteclub.org
SUMMARY:Lone Star Corvette 36th Annual Classic
DESCRIPTION:The 36th Annual show will be May 15-17\, 2026\, at the Hilton DFW Lakes Executive Conference Center in Grapevine\, TX. We will have events on Friday\, the all-Corvette car show on Saturday\, and a brunch excursion on Sunday. The room block for the Hilton\, the host hotel\, should be open in January\, so stay tuned for more details.
URL:https://centralarkansascorvetteclub.org/event/lone-star-corvette-36th-annual-classic/
LOCATION:Hilton DFW Lakes Executive Conference Center\, 1800 Highway 26E\, Grapevine\, TX\, 76051\, United States
CATEGORIES:Car Show
ATTACH;FMTTYPE=image/jpeg:https://centralarkansascorvetteclub.org/wp-content/uploads/2026/01/tca-14.jpg
END:VEVENT
BEGIN:VEVENT
DTSTART;TZID=America/Chicago:20260611T160000
DTEND;TZID=America/Chicago:20260613T170000
DTSTAMP:20260421T074443
CREATED:20260104T190207Z
LAST-MODIFIED:20260125T171751Z
UID:3507-1781193600-1781370000@centralarkansascorvetteclub.org
SUMMARY:25th Annual Corvette Weekend
DESCRIPTION:We are excited to host our 25th Annual Hot Springs Corvette Weekend on June 11-13\, 2026\, and this year\, we get TWO FULL DAYS in the convention center! Stop by for an action-packed schedule of events\, like a scenic tour\, a parade through Hot Springs National Park\, an indoor All Corvette Judged Show\, and more. \nJune 11\, 2026 | Meet & Greet at Hotel Hot Springs \nJune 12\, 2026 | Registration\, Vendors\, Scenic Tour\, Seminars\, All Corvette Parade through Hot Springs National Park. At noon\, door A is open for Registered Corvettes to enter. Security will be on site overnight for Corvettes and Vendors. Meet and Greet at the Hotel Restaurant.  \nJune 13\, 2026 | Indoor All Corvette judged Show\, Hot Springs Convention Center. Vendors\, Silent Auction\, 50/50 Drawing. \n— \nPurchase event T-Shirts and Polos with your registration!
URL:https://centralarkansascorvetteclub.org/event/25th-annual-corvette-weekend/
LOCATION:Hot Springs Convention Center\, 134 Convention Blvd\, Hot Springs\, 71901\, United States
CATEGORIES:CACC Supported Car Show,Car Show
ATTACH;FMTTYPE=image/jpeg:https://centralarkansascorvetteclub.org/wp-content/uploads/2026/01/2026-CW-Feature-2.jpg
END:VEVENT
END:VCALENDAR