BEGIN:VCALENDAR
VERSION:2.0
PRODID:-//Central Arkansas Corvette Club - ECPv6.15.20//NONSGML v1.0//EN
CALSCALE:GREGORIAN
METHOD:PUBLISH
X-WR-CALNAME:Central Arkansas Corvette Club
X-ORIGINAL-URL:https://centralarkansascorvetteclub.org
X-WR-CALDESC:Events for Central Arkansas Corvette Club
REFRESH-INTERVAL;VALUE=DURATION:PT1H
X-Robots-Tag:noindex
X-PUBLISHED-TTL:PT1H
BEGIN:VTIMEZONE
TZID:America/Chicago
BEGIN:DAYLIGHT
TZOFFSETFROM:-0600
TZOFFSETTO:-0500
TZNAME:CDT
DTSTART:20240310T080000
END:DAYLIGHT
BEGIN:STANDARD
TZOFFSETFROM:-0500
TZOFFSETTO:-0600
TZNAME:CST
DTSTART:20241103T070000
END:STANDARD
BEGIN:DAYLIGHT
TZOFFSETFROM:-0600
TZOFFSETTO:-0500
TZNAME:CDT
DTSTART:20250309T080000
END:DAYLIGHT
BEGIN:STANDARD
TZOFFSETFROM:-0500
TZOFFSETTO:-0600
TZNAME:CST
DTSTART:20251102T070000
END:STANDARD
BEGIN:DAYLIGHT
TZOFFSETFROM:-0600
TZOFFSETTO:-0500
TZNAME:CDT
DTSTART:20260308T080000
END:DAYLIGHT
BEGIN:STANDARD
TZOFFSETFROM:-0500
TZOFFSETTO:-0600
TZNAME:CST
DTSTART:20261101T070000
END:STANDARD
BEGIN:DAYLIGHT
TZOFFSETFROM:-0600
TZOFFSETTO:-0500
TZNAME:CDT
DTSTART:20270314T080000
END:DAYLIGHT
BEGIN:STANDARD
TZOFFSETFROM:-0500
TZOFFSETTO:-0600
TZNAME:CST
DTSTART:20271107T070000
END:STANDARD
END:VTIMEZONE
BEGIN:VTIMEZONE
TZID:UTC
BEGIN:STANDARD
TZOFFSETFROM:+0000
TZOFFSETTO:+0000
TZNAME:UTC
DTSTART:20230101T000000
END:STANDARD
END:VTIMEZONE
BEGIN:VEVENT
DTSTART;TZID=America/Chicago:20260611T160000
DTEND;TZID=America/Chicago:20260613T170000
DTSTAMP:20260421T194043
CREATED:20260104T190207Z
LAST-MODIFIED:20260125T171751Z
UID:3507-1781193600-1781370000@centralarkansascorvetteclub.org
SUMMARY:25th Annual Corvette Weekend
DESCRIPTION:We are excited to host our 25th Annual Hot Springs Corvette Weekend on June 11-13\, 2026\, and this year\, we get TWO FULL DAYS in the convention center! Stop by for an action-packed schedule of events\, like a scenic tour\, a parade through Hot Springs National Park\, an indoor All Corvette Judged Show\, and more. \nJune 11\, 2026 | Meet & Greet at Hotel Hot Springs \nJune 12\, 2026 | Registration\, Vendors\, Scenic Tour\, Seminars\, All Corvette Parade through Hot Springs National Park. At noon\, door A is open for Registered Corvettes to enter. Security will be on site overnight for Corvettes and Vendors. Meet and Greet at the Hotel Restaurant.  \nJune 13\, 2026 | Indoor All Corvette judged Show\, Hot Springs Convention Center. Vendors\, Silent Auction\, 50/50 Drawing. \n— \nPurchase event T-Shirts and Polos with your registration!
URL:https://centralarkansascorvetteclub.org/event/25th-annual-corvette-weekend/
LOCATION:Hot Springs Convention Center\, 134 Convention Blvd\, Hot Springs\, 71901\, United States
CATEGORIES:CACC Supported Car Show,Car Show
ATTACH;FMTTYPE=image/jpeg:https://centralarkansascorvetteclub.org/wp-content/uploads/2026/01/2026-CW-Feature-2.jpg
END:VEVENT
BEGIN:VEVENT
DTSTART;TZID=America/Chicago:20260515T080000
DTEND;TZID=America/Chicago:20260517T170000
DTSTAMP:20260421T194043
CREATED:20260104T185502Z
LAST-MODIFIED:20260104T185502Z
UID:3503-1778832000-1779037200@centralarkansascorvetteclub.org
SUMMARY:Lone Star Corvette 36th Annual Classic
DESCRIPTION:The 36th Annual show will be May 15-17\, 2026\, at the Hilton DFW Lakes Executive Conference Center in Grapevine\, TX. We will have events on Friday\, the all-Corvette car show on Saturday\, and a brunch excursion on Sunday. The room block for the Hilton\, the host hotel\, should be open in January\, so stay tuned for more details.
URL:https://centralarkansascorvetteclub.org/event/lone-star-corvette-36th-annual-classic/
LOCATION:Hilton DFW Lakes Executive Conference Center\, 1800 Highway 26E\, Grapevine\, TX\, 76051\, United States
CATEGORIES:Car Show
ATTACH;FMTTYPE=image/jpeg:https://centralarkansascorvetteclub.org/wp-content/uploads/2026/01/tca-14.jpg
END:VEVENT
BEGIN:VEVENT
DTSTART;TZID=America/Chicago:20251206T090000
DTEND;TZID=America/Chicago:20251206T110000
DTSTAMP:20260421T194043
CREATED:20250907T223337Z
LAST-MODIFIED:20250907T223337Z
UID:3322-1765011600-1765018800@centralarkansascorvetteclub.org
SUMMARY:Benton Cars and Coffee
DESCRIPTION:First Saturday of each month at Blue Heaven Restaurant (15228 I-30\, Benton) from 9 AM – 11 AM\, and stick around to enjoy lunch when the restaurant opens at 11!!!! John Elstrod holds an area of parking for CACC members!!!  The cars and coffee event is open to all makes and models of cars and trucks. The last three months we’ve had around 75 vehicles!!!  Call John Elstrod with questions or more information at: (972)523-9016.  You can also go to Facebook\, look up Benton Cars and Coffee\, and join the group.
URL:https://centralarkansascorvetteclub.org/event/benton-cars-and-coffee-2/
LOCATION:Blue Heaven Restaurant\, 15228 I-30\, Benton\, AR\, 72019\, United States
CATEGORIES:Car Show
ATTACH;FMTTYPE=image/jpeg:https://centralarkansascorvetteclub.org/wp-content/uploads/2025/09/Benton-Cars-Coffee.jpg
END:VEVENT
BEGIN:VEVENT
DTSTART;TZID=America/Chicago:20251108T110000
DTEND;TZID=America/Chicago:20251108T140000
DTSTAMP:20260421T194043
CREATED:20250907T221504Z
LAST-MODIFIED:20250907T221504Z
UID:3313-1762599600-1762610400@centralarkansascorvetteclub.org
SUMMARY:Annual CACC Veterans Christmas Shoe Boxes and Chile and/or Cheese Dip Competition
DESCRIPTION:At Whole Hog (2516 Cantrell\, Little Rock.).  Why… To honor some of our most deserving Veterans… and have some fun too!!!  All Condiments (utensils\, spoons) will be provided.  Entrance fee: One roll of Christmas Wrapping paper!!!  If you are bringing Chile or Cheese Dip\, please call or text Glen Arce at (501)681-6492.  Glen needs to know the number of contestants.  If you can\, please bring 100 (similar items) for the show box gifts.  Please text Rita New regarding size and type of items needed (501)944-0149 to make sure it fits into the shoebox and meets the VA needs list.  Please\, no socks\, sugar candies\, or anything perishable.
URL:https://centralarkansascorvetteclub.org/event/annual-cacc-veterans-christmas-shoe-boxes-and-chile-and-or-cheese-dip-competition/
LOCATION:Whole Hog Cafe\, 2516 Cantrell Rd\, Little Rock\, AR\, 72202\, United States
CATEGORIES:Club Meeting
ATTACH;FMTTYPE=image/jpeg:https://centralarkansascorvetteclub.org/wp-content/uploads/2024/08/75341201_10157384458720831_3019060188851208192_n_738534847.jpg
END:VEVENT
BEGIN:VEVENT
DTSTART;TZID=America/Chicago:20251102T130000
DTEND;TZID=America/Chicago:20251102T150000
DTSTAMP:20260421T194043
CREATED:20250907T215931Z
LAST-MODIFIED:20250907T215931Z
UID:3309-1762088400-1762095600@centralarkansascorvetteclub.org
SUMMARY:24th Annual Dad’s Ole Car Show and Parade
DESCRIPTION:The 24th Annual Dad’s Ole Car Show and Parade will be held Sunday\, Nov. 2\, 2025\, at the Central Arkansas Veterans HealthCare System in North Little Rock. The event takes place from 1 to 3 p.m. at the Eugene Towbin HealthCare Center Campus\, 2200 Fort Roots Drive. \nAll cars are welcome to participate. The event is free and offers drinks and snacks. It is organized by the Arkansas Pontiac GMC Association and is open to veteran patients\, visitors\, and staff at the VA Medical Center. \nFor more information\, contact Brian Ray at raybs@cebridge.net or (501) 259-8023.
URL:https://centralarkansascorvetteclub.org/event/24th-annual-dads-ole-car-show-and-parade/
LOCATION:Eugene Towbin Healthcare Center\, 2200 Fort Roots Dr\, North Little Rock\, AR\, 72114\, United States
CATEGORIES:Car Show,Parade
ATTACH;FMTTYPE=image/jpeg:https://centralarkansascorvetteclub.org/wp-content/uploads/2025/09/Dads-Ole-Car-Show-and-Parade-.jpg
END:VEVENT
BEGIN:VEVENT
DTSTART;TZID=America/Chicago:20251101T090000
DTEND;TZID=America/Chicago:20251101T110000
DTSTAMP:20260421T194043
CREATED:20250907T223115Z
LAST-MODIFIED:20250907T223115Z
UID:3320-1761987600-1761994800@centralarkansascorvetteclub.org
SUMMARY:Benton Cars & Coffee
DESCRIPTION:Benton Cars and Coffee: First Saturday of each month at Blue Heaven Restaurant (15228 I-30\, Benton) from 9 AM – 11 AM\, and stick around to enjoy lunch when the restaurant opens at 11!!!! John Elstrod holds an area of parking for CACC members!!!  The cars and coffee event is open to all makes and models of cars and trucks.  The last three months we’ve had around 75 vehicles!!!  Call John Elstrod with questions or more information at: (972)523-9016.  You can also go to Facebook\, look up Benton Cars and Coffee\, and join the group.
URL:https://centralarkansascorvetteclub.org/event/benton-cars-coffee/
LOCATION:Blue Heaven Restaurant\, 15228 I-30\, Benton\, AR\, 72019\, United States
CATEGORIES:Car Show
ATTACH;FMTTYPE=image/jpeg:https://centralarkansascorvetteclub.org/wp-content/uploads/2025/09/Benton-Cars-Coffee.jpg
END:VEVENT
BEGIN:VEVENT
DTSTART;TZID=America/Chicago:20251011T073000
DTEND;TZID=America/Chicago:20251011T170000
DTSTAMP:20260421T194043
CREATED:20250907T215027Z
LAST-MODIFIED:20250907T215027Z
UID:3306-1760167800-1760202000@centralarkansascorvetteclub.org
SUMMARY:45th Annual Car and Bike Show (Dixie Car Club)
DESCRIPTION:Located at the Saline County Fairgrounds (Benton\, I-30 at Exit 116).  Gates open at 7:30. Registration opens at 8:30 am until 11:30 am. Over 50 Awards.
URL:https://centralarkansascorvetteclub.org/event/45th-annual-car-and-bike-show-dixie-car-club/
LOCATION:Saline County Fairgrounds\, 406 Fairfield Rd\, Benton\, AR\, 72015\, United States
CATEGORIES:Car Show
ATTACH;FMTTYPE=image/jpeg:https://centralarkansascorvetteclub.org/wp-content/uploads/2025/09/Car-and-Bike-Show.jpg
END:VEVENT
BEGIN:VEVENT
DTSTART;TZID=America/Chicago:20251004T090000
DTEND;TZID=America/Chicago:20251004T110000
DTSTAMP:20260421T194043
CREATED:20250907T222824Z
LAST-MODIFIED:20250907T222824Z
UID:3316-1759568400-1759575600@centralarkansascorvetteclub.org
SUMMARY:Benton Cars and Coffee
DESCRIPTION:First Saturday of each month at Blue Heaven Restaurant (15228 I-30\, Benton) from 9AM – 11AM\, and stick around to enjoy lunch when the restaurant opens at 11!!!! John Elstrod holds an area of parking for CACC members!!!  The cars and coffee event is open to all makes and models of cars and trucks.  The last three months we’ve had around 75 vehicles!!!  Call John Elstrod with questions or more information at: (972)523-9016.  You can also go to Facebook\, look up Benton Cars and Coffee\, and join the group.
URL:https://centralarkansascorvetteclub.org/event/benton-cars-and-coffee/
LOCATION:Blue Heaven Restaurant\, 15228 I-30\, Benton\, AR\, 72019\, United States
CATEGORIES:Car Show
ATTACH;FMTTYPE=image/jpeg:https://centralarkansascorvetteclub.org/wp-content/uploads/2025/09/Benton-Cars-Coffee.jpg
END:VEVENT
BEGIN:VEVENT
DTSTART;VALUE=DATE:20250925
DTEND;VALUE=DATE:20250929
DTSTAMP:20260421T194043
CREATED:20250907T213526Z
LAST-MODIFIED:20250907T214230Z
UID:3302-1758758400-1759103999@centralarkansascorvetteclub.org
SUMMARY:Eureka Springs Corvette Weekend 2025
DESCRIPTION:Dive into a world where automotive enthusiasts come together to celebrate the perfect blend of timeless grace\, cutting-edge innovation\, and the legendary Corvette\, igniting your love for all things fast and stylish. Prepare to be captivated by a weekend filled with stunning cars\, thrilling rides\, and unforgettable moments that will etch themselves into your heart for a lifetime. \nWeekend Activities Include: \n\n Blind Man’s Auto Cross:\n\nA timed mini auto cross course that must be navigated by a blindfolded driver and a navigator. In a golf cart.   This is a favorite event with both participants and spectators.   Come join the fun! \n\n Fuel Economy Run:\n\nThis is a fuel efficiency competition between like classes of Corvettes (25 classes in all). After fueling\, the course takes you and your navigator through Arkansas back roads and small towns. After you run the course\, you’ll fuel up again and your mileage and gas consumption will be recorded to see who has the best gas mileage. \n\n Quick 60 Competition:\n\nThis is a timed competition event where you have 0-60 feet to accel as quickly as possible then 40 feet to stop. It is not about horsepower\, it is all about ladies and gents showing their finesse in throttle and braking. (Burnouts are not allowed) \n\n Scenic Tour:\n\nEvery year a new destination is selected for the scenic tour through the beautiful Ozarks. All the beautiful Corvettes with the back drop of the Ozarks is breathtaking. \n\n Owner’s Choice Car Show:\n\nThe Owner’s Choice Show is spectacular. This is not a judged show so you can enjoy your Vette and hang out with your friends. Cars are parked by generation and voted on with random ballots from all registrants. There is also a Salute to our Veterans and First Responders and then the awards for the event are presented. \n\n Poker Run:\n\nRight after the award ceremony\, head on out to take part in the poker run. Prepare to draw the winning hand while cruising in your Corvette through scenic landscape of NW Arkansas and the southern border of Missouri. \n\n Parade of Champions:\n\nThe Parade of Champions consist of all the winners from the various events. The parade takes place from the Passion Play area down Highway 62 to the Inn of the Ozarks. The highway will be lined with hundreds of people excited to see the beautiful Corvettes. \n\n Bon Voyage Breakfast:\n\nCome join us for breakfast before you head back home. Information about the breakfast will be in your registration packet.
URL:https://centralarkansascorvetteclub.org/event/eureka-springs-corvette-weekend-2025/
LOCATION:Best Western Convention Center\, 207 W Van Buren\, Eureka Springs\, AR\, 72632\, United States
CATEGORIES:Car Show
ATTACH;FMTTYPE=image/jpeg:https://centralarkansascorvetteclub.org/wp-content/uploads/2025/09/Eureka-Springs-Corvette-Weekend.jpg
END:VEVENT
BEGIN:VEVENT
DTSTART;TZID=America/Chicago:20250921T120000
DTEND;TZID=America/Chicago:20250921T150000
DTSTAMP:20260421T194043
CREATED:20250907T194646Z
LAST-MODIFIED:20250907T194646Z
UID:3298-1758456000-1758466800@centralarkansascorvetteclub.org
SUMMARY:Central Arkansas Mustangers Fall Show and Shine
DESCRIPTION:All cars are welcome!!!!  Located at The Outlets\, 11201 Bass Pro Parkway.  (Next to Bass Pro).
URL:https://centralarkansascorvetteclub.org/event/central-arkansas-mustangers-fall-show-and-shine/
LOCATION:Outlets of Little Rock\, 11201 Bass Pro Pkwy\, Little Rock\, AR\, 72210\, United States
CATEGORIES:Car Show
ATTACH;FMTTYPE=image/jpeg:https://centralarkansascorvetteclub.org/wp-content/uploads/2025/09/Mustangers-.jpg
END:VEVENT
BEGIN:VEVENT
DTSTART;VALUE=DATE:20250920
DTEND;VALUE=DATE:20250921
DTSTAMP:20260421T194043
CREATED:20250907T170001Z
LAST-MODIFIED:20250907T170122Z
UID:3291-1758326400-1758412799@centralarkansascorvetteclub.org
SUMMARY:CACC September Monthly Cruise
DESCRIPTION:Location to be determined.
URL:https://centralarkansascorvetteclub.org/event/cacc-september-monthly-cruise/
LOCATION:AR
CATEGORIES:Monthly Cruise
ATTACH;FMTTYPE=image/jpeg:https://centralarkansascorvetteclub.org/wp-content/uploads/2025/09/Monthly-Cruise.jpg
END:VEVENT
BEGIN:VEVENT
DTSTART;VALUE=DATE:20250919
DTEND;VALUE=DATE:20250921
DTSTAMP:20260421T194043
CREATED:20250907T171650Z
LAST-MODIFIED:20250907T171650Z
UID:3294-1758240000-1758412799@centralarkansascorvetteclub.org
SUMMARY:Corvette Funfest
DESCRIPTION:Corvette Funfest 2025 is set for September 19-20\, celebrating a major milestone-the 70th anniversary of the legendary V8 engine\, and the organizers have some exciting plans in store to honor this iconic event. The Funfest will begin with Road Tours on Friday\, followed by a full day of fun on Saturday\, featuring expert seminars\, Corvette vendors\, activities\, and the best of each generation awards. Plus\, there’ll be plenty of food\, drinks\, and much more to enjoy. Registration is now open.
URL:https://centralarkansascorvetteclub.org/event/corvette-funfest/
LOCATION:Mid America Motorworks\, 2800 North 3rd Street\, Effingham\, IL\, 62401\, United States
CATEGORIES:Car Show
ATTACH;FMTTYPE=image/jpeg:https://centralarkansascorvetteclub.org/wp-content/uploads/2025/09/Corvette-Fun-Fest-2025.jpg
END:VEVENT
BEGIN:VEVENT
DTSTART;TZID=America/Chicago:20250918T170000
DTEND;TZID=America/Chicago:20250918T190000
DTSTAMP:20260421T194044
CREATED:20250907T165129Z
LAST-MODIFIED:20250907T165129Z
UID:3287-1758214800-1758222000@centralarkansascorvetteclub.org
SUMMARY:Lonoke County Fair Parade
DESCRIPTION:We need to be in line by 4:45 with the queens.  The parade starts at 5 PM.  We need 13 cars for this parade.
URL:https://centralarkansascorvetteclub.org/event/lonoke-county-fair-parade/
LOCATION:Lonoke City Park\, 401 Park St\, Lonoke\, AR\, 72086\, United States
CATEGORIES:Parade
ATTACH;FMTTYPE=image/jpeg:https://centralarkansascorvetteclub.org/wp-content/uploads/2025/09/Lonoke-County-Fair-Parade.jpg
END:VEVENT
BEGIN:VEVENT
DTSTART;TZID=America/Chicago:20250916T160000
DTEND;TZID=America/Chicago:20250916T180000
DTSTAMP:20260421T194044
CREATED:20250907T163912Z
LAST-MODIFIED:20250907T164009Z
UID:3283-1758038400-1758045600@centralarkansascorvetteclub.org
SUMMARY:Conway Fair Parade
DESCRIPTION:Line up at 4 PM. More information to come.
URL:https://centralarkansascorvetteclub.org/event/conway-fair-parade/
LOCATION:Conway Exposition & Fairgrounds\, 2505 East Oak Street\, Conway\, AR\, 72032\, United States
CATEGORIES:Parade
ATTACH;FMTTYPE=image/jpeg:https://centralarkansascorvetteclub.org/wp-content/uploads/2025/09/Conway-Parade.jpg
END:VEVENT
BEGIN:VEVENT
DTSTART;TZID=America/Chicago:20250913T090000
DTEND;TZID=America/Chicago:20250913T150000
DTSTAMP:20260421T194044
CREATED:20250907T162623Z
LAST-MODIFIED:20250907T162623Z
UID:3279-1757754000-1757775600@centralarkansascorvetteclub.org
SUMMARY:Fat Boyz Garage 2nd Annual Car Show
DESCRIPTION:Registration will be open from 9:00 AM – 11:00 AM. Raffle in support of Bright Futures Benton to start at 2:00 PM\, and the award ceremony will follow around 2:30 PM. There will be food trucks\, a bounce house for the kids\, and more! More details to come soon! Car show only this year; no audio show.
URL:https://centralarkansascorvetteclub.org/event/fat-boyz-garage-2nd-annual-car-show/
LOCATION:Saline County Fairgrounds\, 406 Fairfield Rd\, Benton\, AR\, 72015\, United States
ATTACH;FMTTYPE=image/jpeg:https://centralarkansascorvetteclub.org/wp-content/uploads/2025/09/Fat-Boyz-Garage-2nd-Annual-Car-Show.jpg
END:VEVENT
BEGIN:VEVENT
DTSTART;TZID=America/Chicago:20250913T090000
DTEND;TZID=America/Chicago:20250913T150000
DTSTAMP:20260421T194044
CREATED:20250907T155542Z
LAST-MODIFIED:20250907T161440Z
UID:3271-1757754000-1757775600@centralarkansascorvetteclub.org
SUMMARY:26th Annual Wheelin and Healin Car and Truck Show
DESCRIPTION:This event is hosted by the Arkansas Pontiac GMC Association and sponsored by Goodsell Truck Accessories\, Gwatney Performance Innovation\, and the city of Jacksonville. Benefiting Jacksonville Animal Shelter. Located at 201 Municipal Drive\, Jacksonville\, AR.  The show officially starts at 9 AM.  Club Corvettes need to show up at 8 AM at the GPI parking lot.  More information coming as we get closer to the event.
URL:https://centralarkansascorvetteclub.org/event/26th-annual-wheelin-and-healin-car-and-truck-show/
LOCATION:Gwatney Performance Innovation\, 201 Municipal Drive\, Jacksonville\, AR\, 72076\, United States
CATEGORIES:Car Show
ATTACH;FMTTYPE=image/jpeg:https://centralarkansascorvetteclub.org/wp-content/uploads/2025/09/26th-Annual-Wheelin-and-Healin-Car-and-Truck-Show.jpg
END:VEVENT
BEGIN:VEVENT
DTSTART;TZID=America/Chicago:20250612T073000
DTEND;TZID=America/Chicago:20250614T170000
DTSTAMP:20260421T194044
CREATED:20241127T024615Z
LAST-MODIFIED:20250527T193534Z
UID:2239-1749713400-1749920400@centralarkansascorvetteclub.org
SUMMARY:24th Annual Corvette Weekend
DESCRIPTION:The Central Arkansas Corvette Club is hosting its 24th Annual Hot Springs Corvette Weekend starting Thursday\, June 12th\, 2025\, and going through Saturday\, June 14th\, 2025. Stop by for three full days of action-packed events like a scenic road trip/poker run and a parade up and down West Mountain. NOTE: Online registration and apparel sales will end on June 9 at 12:00 am. If you wish to register for the show after that date\, stop by the registration desk at the hotel\, and we will register you in person.  \nJune 12\, 2025 | Meet & Greet at Hotel Hot Springs \nJune 13\, 2025 | Registration\, Vendors\, Scenic Tour\, Seminar\, All Corvette Parade through Hot Springs National Park. \nJune 14\, 2025 | Indoor All Corvette judged Show\, Hot Springs Convention Center. Vendors\, Silent Auction\, 50/50 Drawing. \n— \nPurchase event T-Shirts and Polos with your registration!
URL:https://centralarkansascorvetteclub.org/event/24th-annual-corvette-weekend/
LOCATION:Hot Springs Convention Center\, 134 Convention Blvd\, Hot Springs\, 71901\, United States
CATEGORIES:CACC Supported Car Show
ATTACH;FMTTYPE=image/jpeg:https://centralarkansascorvetteclub.org/wp-content/uploads/2024/11/2025-Corvette-Weekend-Hot-Springs-AR-2-scaled.jpg
END:VEVENT
BEGIN:VEVENT
DTSTART;TZID=UTC:20241003T080000
DTEND;TZID=UTC:20241006T170000
DTSTAMP:20260421T194044
CREATED:20240604T200834Z
LAST-MODIFIED:20240604T200834Z
UID:88-1727942400-1728234000@centralarkansascorvetteclub.org
SUMMARY:Eureka Springs Corvette Weekend
DESCRIPTION:Annual Eureka Springs Corvette Show in Eureka Springs\, AR. We will have multiple car caravans traveling to this show. More information later!!
URL:https://centralarkansascorvetteclub.org/event/eureka-springs-corvette-weekend/
LOCATION:AR
CATEGORIES:CACC Supported Car Show
END:VEVENT
BEGIN:VEVENT
DTSTART;TZID=UTC:20240829T080000
DTEND;TZID=UTC:20240831T170000
DTSTAMP:20260421T194044
CREATED:20240604T200225Z
LAST-MODIFIED:20240604T200338Z
UID:86-1724918400-1725123600@centralarkansascorvetteclub.org
SUMMARY:National Corvette Caravan
DESCRIPTION:Caravan to Bowling Green\, KY. More information to come!!!
URL:https://centralarkansascorvetteclub.org/event/national-corvette-caravan/
LOCATION:AR
CATEGORIES:CACC Supported Car Show
END:VEVENT
BEGIN:VEVENT
DTSTART;TZID=UTC:20240622T103000
DTEND;TZID=UTC:20240622T143000
DTSTAMP:20260421T194044
CREATED:20240604T194054Z
LAST-MODIFIED:20240604T201038Z
UID:81-1719052200-1719066600@centralarkansascorvetteclub.org
SUMMARY:CACC Ladies Lunch Run
DESCRIPTION:Angie Dennis leads up this fantastic cruise for ladies a few times per year. Location of the lunch and meeting place to start the cruise is coming later. Stay tuned!!!
URL:https://centralarkansascorvetteclub.org/event/cacc-ladies-lunch-run/
LOCATION:AR
CATEGORIES:CACC Sponsored Event
END:VEVENT
END:VCALENDAR