BEGIN:VCALENDAR
VERSION:2.0
PRODID:-//Central Arkansas Corvette Club - ECPv6.15.20//NONSGML v1.0//EN
CALSCALE:GREGORIAN
METHOD:PUBLISH
X-ORIGINAL-URL:https://centralarkansascorvetteclub.org
X-WR-CALDESC:Events for Central Arkansas Corvette Club
REFRESH-INTERVAL;VALUE=DURATION:PT1H
X-Robots-Tag:noindex
X-PUBLISHED-TTL:PT1H
BEGIN:VTIMEZONE
TZID:America/Chicago
BEGIN:DAYLIGHT
TZOFFSETFROM:-0600
TZOFFSETTO:-0500
TZNAME:CDT
DTSTART:20250309T080000
END:DAYLIGHT
BEGIN:STANDARD
TZOFFSETFROM:-0500
TZOFFSETTO:-0600
TZNAME:CST
DTSTART:20251102T070000
END:STANDARD
BEGIN:DAYLIGHT
TZOFFSETFROM:-0600
TZOFFSETTO:-0500
TZNAME:CDT
DTSTART:20260308T080000
END:DAYLIGHT
BEGIN:STANDARD
TZOFFSETFROM:-0500
TZOFFSETTO:-0600
TZNAME:CST
DTSTART:20261101T070000
END:STANDARD
BEGIN:DAYLIGHT
TZOFFSETFROM:-0600
TZOFFSETTO:-0500
TZNAME:CDT
DTSTART:20270314T080000
END:DAYLIGHT
BEGIN:STANDARD
TZOFFSETFROM:-0500
TZOFFSETTO:-0600
TZNAME:CST
DTSTART:20271107T070000
END:STANDARD
END:VTIMEZONE
BEGIN:VEVENT
DTSTART;TZID=America/Chicago:20260919T090000
DTEND;TZID=America/Chicago:20260919T150000
DTSTAMP:20260420T004524
CREATED:20260104T194440Z
LAST-MODIFIED:20260104T194440Z
UID:3515-1789808400-1789830000@centralarkansascorvetteclub.org
SUMMARY:27th Annual Wheelin’ and Healin’ Car and Truck Show
DESCRIPTION:This is one of the largest shows in AR with nearly 60 trophies and LOTS of door prizes. $25 Judged or $10 for display only. Proceeds go to charities. Currently the Jacksonville Animal Shelter is the only one\, but we may add more.
URL:https://centralarkansascorvetteclub.org/event/27th-annual-wheelin-and-healin-car-and-truck-show/
LOCATION:Goodsell Truck Accessories/GPI/Jacksonville Farmers Market\, 227 Municipal Drive\, Jacksonville\, AR\, 72076-4276\, United States
CATEGORIES:Car Show
ATTACH;FMTTYPE=image/jpeg:https://centralarkansascorvetteclub.org/wp-content/uploads/2026/01/Car-Show-Pic.jpg
END:VEVENT
BEGIN:VEVENT
DTSTART;TZID=America/Chicago:20260924T080000
DTEND;TZID=America/Chicago:20260927T170000
DTSTAMP:20260420T004524
CREATED:20260104T195312Z
LAST-MODIFIED:20260104T195312Z
UID:3519-1790236800-1790528400@centralarkansascorvetteclub.org
SUMMARY:2026 Eureka Springs Annual Corvette Show
DESCRIPTION:Dive into a world where automotive enthusiasts come together to celebrate the perfect blend of timeless grace\, cutting-edge innovation\, and the legendary Corvette\, igniting your love for all things fast and stylish. \nPrepare to be captivated by a weekend filled with stunning cars\, thrilling rides\, and unforgettable moments that will etch themselves into your heart for a lifetime.
URL:https://centralarkansascorvetteclub.org/event/2026-eureka-springs-annual-corvette-show/
LOCATION:Eureka Springs & North Arkansas Railway\, 299 N Main St.\, Eureka Springs\, AR\, 72632\, United States
CATEGORIES:Car Show
ATTACH;FMTTYPE=image/jpeg:https://centralarkansascorvetteclub.org/wp-content/uploads/2026/01/IMG_4820-scaled-1.jpg
END:VEVENT
END:VCALENDAR